BEGIN:VCALENDAR
VERSION:2.0
PRODID:-//Music Canterbury - ECPv6.6.4.2//NONSGML v1.0//EN
CALSCALE:GREGORIAN
METHOD:PUBLISH
X-ORIGINAL-URL:https://musiccanterbury.co.nz
X-WR-CALDESC:Events for Music Canterbury
REFRESH-INTERVAL;VALUE=DURATION:PT1H
X-Robots-Tag:noindex
X-PUBLISHED-TTL:PT1H
BEGIN:VTIMEZONE
TZID:Pacific/Auckland
BEGIN:STANDARD
TZOFFSETFROM:+1300
TZOFFSETTO:+1200
TZNAME:NZST
DTSTART:20210403T140000
END:STANDARD
BEGIN:DAYLIGHT
TZOFFSETFROM:+1200
TZOFFSETTO:+1300
TZNAME:NZDT
DTSTART:20210925T140000
END:DAYLIGHT
END:VTIMEZONE
BEGIN:VEVENT
DTSTART;VALUE=DATE:20211012
DTEND;VALUE=DATE:20211015
DTSTAMP:20260422T042459
CREATED:20210914T050730Z
LAST-MODIFIED:20210914T050943Z
UID:6150-1633996800-1634255999@musiccanterbury.co.nz
SUMMARY:Classical Musicians Workshop
DESCRIPTION:Improvise! 2 Poster-red \nImprovise! Grooves and Blues\nHot on the heels of our successful Improvise! New Ways to Play! Workshops\, we’re bringing you a brand new workshop – exploring grooves\, scales and the blues. \nImprovisation is fun\, creative and a great way to get to know your instrument and other musicians just like you! Nothing too hard – everything will be clearly explained\, you’ll learn the skills you need and soon you’ll be jamming along in our friendly supportive environment. \nImprovisation provides a valuable link between theory\, harmony\, aural training and playing your instrument. You’ll understand more about music\, be motivated and freshly inspired. And become a more versatile musician! \n3 day Workshop\n12 -14 October\, 2.30pm-4.30pm\nRon Ball Studio\, Christchurch Town Hall\n$60 (early bird – before 19 Sept)\, $70 (full registration – before 7 Oct)\, $90 (late registration- from 7 Oct) \nOpen to anyone who plays an orchestral instrument – all abilities are welcome \nRegistrations are now open https://www.eventfinda.co.nz/2021/improvise-grooves-and-blues/christchurch\nMore details https://cathy.irons.nz/classical-creatives\n“Like” our Facebook Classical Creatives page to stay up to date! \n  \n 
URL:https://musiccanterbury.co.nz/event/classical-musicians-workshop/
LOCATION:Ron Ball Studio\, Christchurch Town Hall\, Kilmore Street\, Christchurch\, 8011\, New Zealand
END:VEVENT
BEGIN:VEVENT
DTSTART;TZID=Pacific/Auckland:20211014T193000
DTEND;TZID=Pacific/Auckland:20211014T193000
DTSTAMP:20260422T042459
CREATED:20210610T035736Z
LAST-MODIFIED:20210610T035809Z
UID:6051-1634239800-1634239800@musiccanterbury.co.nz
SUMMARY:Apollo Musicum presents "Swings & Roundabouts Septet"
DESCRIPTION:Apollo Musicum presents “Swings & Roundabouts Septet” on Thursday 14th October 2021 at the PG Art Gallery\, 192 Bealey Avenue\, Christchurch with work by Christchurch composer\, Barbara Maguire. \nProgramme starts at 7.30 p.m. and includes her Swings and Roundabouts Septet involved the Quintet along with Max Ma playing the Marimba and Georgina Rees-Stevenson on Flute.  Georgina swaps over to the clarinet for the theme and variations movement of the Mozart Clarinet Quintet.
URL:https://musiccanterbury.co.nz/event/apollo-musicum-presents-swings-roundabouts-septet/
LOCATION:PG Art Gallery\, 192 Bealey Avenue\, Christchurch\, 8013\, New Zealand
ORGANIZER;CN="Robert Tait":MAILTO:rvt@snap.net.nz
END:VEVENT
BEGIN:VEVENT
DTSTART;TZID=Pacific/Auckland:20211014T193000
DTEND;TZID=Pacific/Auckland:20211014T203000
DTSTAMP:20260422T042459
CREATED:20210828T083158Z
LAST-MODIFIED:20210828T083338Z
UID:6136-1634239800-1634243400@musiccanterbury.co.nz
SUMMARY:Apollo Musicum presents "PG Gallery Recital"
DESCRIPTION:Apollo Musicum presents “PG Gallery Recital – Maguire & Mozart” on Thursday 14th October 2021\, 7.30 p.m. to 8.30 p.m. at the PG Gallery\, 192 Bealey Avenue\, Christchurch. \nFeaturing: \n\nBittersweet Clarinet Quintet (extracts)\nS & R Flute & Marimba (I\, II & III)\n\nFor further information contact: \nRobert Tait; Email: rvt@snap.net.nz; Cellphone: 021 143 661
URL:https://musiccanterbury.co.nz/event/apollo-musicum-presents-pg-gallery-recital/
LOCATION:PG Art Gallery\, 192 Bealey Avenue\, Christchurch\, 8013\, New Zealand
ORGANIZER;CN="Robert Tait":MAILTO:rvt@snap.net.nz
END:VEVENT
END:VCALENDAR