BEGIN:VCALENDAR
VERSION:2.0
PRODID:-//Music Canterbury - ECPv6.6.4.2//NONSGML v1.0//EN
CALSCALE:GREGORIAN
METHOD:PUBLISH
X-ORIGINAL-URL:https://musiccanterbury.co.nz
X-WR-CALDESC:Events for Music Canterbury
REFRESH-INTERVAL;VALUE=DURATION:PT1H
X-Robots-Tag:noindex
X-PUBLISHED-TTL:PT1H
BEGIN:VTIMEZONE
TZID:Pacific/Auckland
BEGIN:STANDARD
TZOFFSETFROM:+1300
TZOFFSETTO:+1200
TZNAME:NZST
DTSTART:20210403T140000
END:STANDARD
BEGIN:DAYLIGHT
TZOFFSETFROM:+1200
TZOFFSETTO:+1300
TZNAME:NZDT
DTSTART:20210925T140000
END:DAYLIGHT
END:VTIMEZONE
BEGIN:VEVENT
DTSTART;TZID=Pacific/Auckland:20211009T193000
DTEND;TZID=Pacific/Auckland:20211009T210000
DTSTAMP:20260422T042449
CREATED:20210810T091653Z
LAST-MODIFIED:20210810T091653Z
UID:6133-1633807800-1633813200@musiccanterbury.co.nz
SUMMARY:Christchurch City Choir presents "Brahms' A German Requiem"
DESCRIPTION:Christchurch City Choir presents “Brahms’ A German Requiem” on Saturday 9th October 2021\, 7.30 p.m. to 9.00 p.m. at Douglas Lilburn Auditorium\, Christchurch Town Hall. \nPricing: \n\n$10.00 to $49.00 plus Ticketek charges\n\nChristchurch City Choir returns to the Christchurch Town Hall to perform Brahms’ magnificent A German Requiem to conclude the celebration of the Choir’s 30th anniversary year. Conductor John Linker and the Choir are thrilled to be working alongside the Christchurch Symphony Orchestra\, choral scholarship recipients and guests as well as soloist\, Bass Paul Whelan\, Soprano Elizabeth Mandeno and Organist Martin Setchell. It will certainly be a moving performance\, sung to mark the first decade of the Canterbury earthquakes.  \nPrincipal Sponsors South Island Heart and Mitre 10 Mega Ferrymead.\nTickets through ticketek\nhttps://www.citychoir.co.nz/ \nContact: Mandy Perry \nEmail: info@citychoir.co.nz \nWebsite: https://premier.ticketek.co.nz/shows/show.aspx?sh=CITYCHOI21&v=CTH&p=ECTH2021897
URL:https://musiccanterbury.co.nz/event/christchurch-city-choir-presents-brahms-german-requiem/
LOCATION:Christchurch Town Hall\, Kilmore Street\, Christchurch\, 8011
ORGANIZER;CN="Teresa Scott%2C Choir Manager":MAILTO:info@citychoir.co.nz
END:VEVENT
END:VCALENDAR